BEGIN:VCALENDAR
VERSION:2.0
PRODID:-//Shaw HR Consulting - ECPv6.2.0.1//NONSGML v1.0//EN
CALSCALE:GREGORIAN
METHOD:PUBLISH
X-ORIGINAL-URL:https://www.shawhrconsulting.com
X-WR-CALDESC:Events for Shaw HR Consulting
REFRESH-INTERVAL;VALUE=DURATION:PT1H
X-Robots-Tag:noindex
X-PUBLISHED-TTL:PT1H
BEGIN:VTIMEZONE
TZID:America/Denver
BEGIN:DAYLIGHT
TZOFFSETFROM:-0700
TZOFFSETTO:-0600
TZNAME:MDT
DTSTART:20210314T090000
END:DAYLIGHT
BEGIN:STANDARD
TZOFFSETFROM:-0600
TZOFFSETTO:-0700
TZNAME:MST
DTSTART:20211107T080000
END:STANDARD
END:VTIMEZONE
BEGIN:VEVENT
DTSTART;TZID=America/Denver:20210521T100000
DTEND;TZID=America/Denver:20210521T150000
DTSTAMP:20260422T183935
CREATED:20210212T222553Z
LAST-MODIFIED:20210526T164637Z
UID:19733-1621591200-1621609200@www.shawhrconsulting.com
SUMMARY:The ADA Interactive Process in the Era of COVID
DESCRIPTION:Disability compliance practitioners have been in emergency-response mode for over a year.  Much of the day to day work that used to be priority was relegated to “we will get back to this after COVID”. Well\, COVID is still a major HR focus for us\, but we are also needing to get back to the projects and tasks that had to take a back seat for a while. In this workshop we will support you to dust off your ADA programs and reset them with a nod to what is possible for your team in this continued era of COVID. This training will provide you with a practical and streamlined process to keep your organization compliant and efficient with all of your ADA disability matters – from workers’ compensation\, personal injuries and illnesses and COVID related accommodation needs. No matter how amazing your HR team is\, they can’t do it all the same ways we did before. We have to find compliant ways to do the work\, with less time.  Leave this training with sample materials and templates you can implement immediately. \n \n  \n  \nIn addition to sample materials and templates\, it’s time to re-invest in yourself. Take this day to empower yourself with the knowledge you need to succeed\, and pamper yourself with the Shaw HR Consulting HR Essentials Toolkit! Shaw HR Consulting has partnered with Craven & Co. to create an HR Essentials Toolkit that each attendee will get mailed to your doorstep as part of the training! \n  \n  \nShaw HR Consulting has been approved by the State Bar of California to provide MCLE credits for its trainings. \nShaw HR Consulting is recognized by SHRM to offer Professional Development Credits (PDCs) for the SHRM-CPSM and SHRM-SCPSM.  Shaw HR Consulting trainings are also eligible for points for IPMA-HR Certified Professionals (IPMA-CP) and IPMA-HR Senior Certified Professionals (IPMA-SCP).
URL:https://www.shawhrconsulting.com/event/the-ada-interactive-process-in-the-era-of-covid/
ATTACH;FMTTYPE=image/jpeg:https://www.shawhrconsulting.com/wp-content/uploads/2021/02/onlinetraining.jpg
ORGANIZER;CN="Shaw%20HR%20Consulting":MAILTO:training@shawhrconsulting.com
END:VEVENT
END:VCALENDAR