BEGIN:VCALENDAR
VERSION:2.0
PRODID:-//Shaw HR Consulting - ECPv6.2.0.1//NONSGML v1.0//EN
CALSCALE:GREGORIAN
METHOD:PUBLISH
X-WR-CALNAME:Shaw HR Consulting
X-ORIGINAL-URL:https://www.shawhrconsulting.com
X-WR-CALDESC:Events for Shaw HR Consulting
REFRESH-INTERVAL;VALUE=DURATION:PT1H
X-Robots-Tag:noindex
X-PUBLISHED-TTL:PT1H
BEGIN:VTIMEZONE
TZID:America/Denver
BEGIN:DAYLIGHT
TZOFFSETFROM:-0700
TZOFFSETTO:-0600
TZNAME:MDT
DTSTART:20210314T090000
END:DAYLIGHT
BEGIN:STANDARD
TZOFFSETFROM:-0600
TZOFFSETTO:-0700
TZNAME:MST
DTSTART:20211107T080000
END:STANDARD
END:VTIMEZONE
BEGIN:VEVENT
DTSTART;TZID=America/Denver:20211106T080000
DTEND;TZID=America/Denver:20211107T170000
DTSTAMP:20260423T023724
CREATED:20210907T154730Z
LAST-MODIFIED:20220112T194605Z
UID:20721-1636185600-1636304400@www.shawhrconsulting.com
SUMMARY:National PELRA's 2021 Annual Training Conference
DESCRIPTION:SATURDAY – NOVEMBER 6\, 2021:\n\n1:00 pm – 4:00 pm: Pre-Conference Workshop with Rachel Shaw  “ADA/ADAAA Compliance – Everything You Need to Do This Hard Stuff Right”  – (separate registration required)\n\nSUNDAY – NOVEMBER 7\, 2021\n\n3:05 pm – 4:20 pm: “Leave Management: How a Pandemic Added Even More Acronyms to the “Leave Game”\n\nLeave use is one of the most frustrating issues for employers to manage. From FMLA (Friday\, Monday Leave Act) to the newest addition – FFCRA\,  to persons who are legitimately too disabled to work full-time\, it nearly feels hopeless to combat the rising tide of leave use. In this session Rachel will skillfully walk you through what you can do to reduce leave use across your organization — even in a pandemic. She brings strategies that work\, provides you with tools you can throw on your stationary and start using tomorrow\, and does it with a sense of humor.  Don’t miss one of Rachel’s most popular sessions where she shares leave management strategies that really work.
URL:https://www.shawhrconsulting.com/event/national-pelras-2021-annual-training-conference/
LOCATION:Sheraton New Orleans\, 500 Canal Street\, New Orleans\, LA\, 70130\, United States
ATTACH;FMTTYPE=image/jpeg:https://www.shawhrconsulting.com/wp-content/uploads/2021/09/neworleans.jpg
END:VEVENT
END:VCALENDAR