BEGIN:VCALENDAR
VERSION:2.0
PRODID:-//Shaw HR Consulting - ECPv6.2.0.1//NONSGML v1.0//EN
CALSCALE:GREGORIAN
METHOD:PUBLISH
X-ORIGINAL-URL:https://www.shawhrconsulting.com
X-WR-CALDESC:Events for Shaw HR Consulting
REFRESH-INTERVAL;VALUE=DURATION:PT1H
X-Robots-Tag:noindex
X-PUBLISHED-TTL:PT1H
BEGIN:VTIMEZONE
TZID:America/Denver
BEGIN:DAYLIGHT
TZOFFSETFROM:-0700
TZOFFSETTO:-0600
TZNAME:MDT
DTSTART:20220313T090000
END:DAYLIGHT
BEGIN:STANDARD
TZOFFSETFROM:-0600
TZOFFSETTO:-0700
TZNAME:MST
DTSTART:20221106T080000
END:STANDARD
END:VTIMEZONE
BEGIN:VEVENT
DTSTART;TZID=America/Denver:20220302T090000
DTEND;TZID=America/Denver:20220302T101500
DTSTAMP:20260423T001427
CREATED:20210907T160537Z
LAST-MODIFIED:20211118T170947Z
UID:20731-1646211600-1646216100@www.shawhrconsulting.com
SUMMARY:PARMA Annual Conference
DESCRIPTION:Session Title:  Working From Home\, and a Possible Hybrid Future \nSession Description:  As we transition out of the pandemic\, many employers are eager to return their employees to the traditional workplace.  However\, will that be a reality in our future given fears employees have regarding contracting illness?  Understanding how to assess reasonableness of work from home accommodations as well as what considerations are important in regards to employer risk and employee safety in work from home and hybrid environments will be key in moving forward.   Join us as we discuss best practice options and the potential risks to consider as to consider when offering a work from home option in the future.
URL:https://www.shawhrconsulting.com/event/parma-annual-conference/
LOCATION:Disneyland Hotel Conference Center\, 1150 West Magic Way\, Anaheim\, CA\, 92802\, United States
ATTACH;FMTTYPE=image/jpeg:https://www.shawhrconsulting.com/wp-content/uploads/2021/09/disney.jpg
END:VEVENT
END:VCALENDAR