BEGIN:VCALENDAR
VERSION:2.0
PRODID:-//Shaw HR Consulting - ECPv6.2.0.1//NONSGML v1.0//EN
CALSCALE:GREGORIAN
METHOD:PUBLISH
X-WR-CALNAME:Shaw HR Consulting
X-ORIGINAL-URL:https://www.shawhrconsulting.com
X-WR-CALDESC:Events for Shaw HR Consulting
REFRESH-INTERVAL;VALUE=DURATION:PT1H
X-Robots-Tag:noindex
X-PUBLISHED-TTL:PT1H
BEGIN:VTIMEZONE
TZID:America/Denver
BEGIN:DAYLIGHT
TZOFFSETFROM:-0700
TZOFFSETTO:-0600
TZNAME:MDT
DTSTART:20220313T090000
END:DAYLIGHT
BEGIN:STANDARD
TZOFFSETFROM:-0600
TZOFFSETTO:-0700
TZNAME:MST
DTSTART:20221106T080000
END:STANDARD
END:VTIMEZONE
BEGIN:VEVENT
DTSTART;TZID=America/Denver:20220308T110000
DTEND;TZID=America/Denver:20220308T123000
DTSTAMP:20260423T001347
CREATED:20211215T002534Z
LAST-MODIFIED:20220418T153332Z
UID:21247-1646737200-1646742600@www.shawhrconsulting.com
SUMMARY:Virtual HR Training Webinar
DESCRIPTION:Webinar: A Look Toward Leave Management Post-Pandemic\nMany employers have reported the lowest leave levels in decades during the pandemic. Some hypothesize this was because there was very little travel allowed. Others believe that U.S. workers may not have taken less leave\, just reported it less\, e.g.\, an employee working from home may not have had to report it as it was not “seen” by supervisors. No matter the reason\, all would agree 2020 and to some extent 2021 were an anomalies\, and it is highly unlikely the need for leave management will go by the wayside post-pandemic. \nWhile many employers are considering making permanent changes regarding working remotely and hybrid work environments\, most employers should prepare for pre-pandemic leave levels to resurface. How then\, should HR Departments manage leave as the world is coming out of a pandemic? Rachel will discuss both overall strategies as well as provide attendees with process to implement leave programming including forms and templates you can start using immediately.
URL:https://www.shawhrconsulting.com/event/virtual-hr-training-webinar/
LOCATION:Virtual
ATTACH;FMTTYPE=image/jpeg:https://www.shawhrconsulting.com/wp-content/uploads/2021/12/webinar_generic-1.jpg
END:VEVENT
END:VCALENDAR