BEGIN:VCALENDAR
VERSION:2.0
PRODID:-//Shaw HR Consulting - ECPv6.2.0.1//NONSGML v1.0//EN
CALSCALE:GREGORIAN
METHOD:PUBLISH
X-ORIGINAL-URL:https://www.shawhrconsulting.com
X-WR-CALDESC:Events for Shaw HR Consulting
REFRESH-INTERVAL;VALUE=DURATION:PT1H
X-Robots-Tag:noindex
X-PUBLISHED-TTL:PT1H
BEGIN:VTIMEZONE
TZID:America/Denver
BEGIN:DAYLIGHT
TZOFFSETFROM:-0700
TZOFFSETTO:-0600
TZNAME:MDT
DTSTART:20220313T090000
END:DAYLIGHT
BEGIN:STANDARD
TZOFFSETFROM:-0600
TZOFFSETTO:-0700
TZNAME:MST
DTSTART:20221106T080000
END:STANDARD
END:VTIMEZONE
BEGIN:VEVENT
DTSTART;TZID=America/Denver:20220321T130000
DTEND;TZID=America/Denver:20220321T140000
DTSTAMP:20260423T012743
CREATED:20211215T001724Z
LAST-MODIFIED:20220322T154027Z
UID:21241-1647867600-1647871200@www.shawhrconsulting.com
SUMMARY:2022 DMEC FMLA/ADA Employer Compliance Conference
DESCRIPTION:Combatting Excessive Leave: Managing FMLA Leave Misuse and Abuse
URL:https://www.shawhrconsulting.com/event/2022-dmec-fmla-ada-employer-compliance-conference/
LOCATION:The Westin Bonaventure Hotel & Suites\, 404 S Figueroa St.\, Los Angeles\, CA\, 90071\, United States
CATEGORIES:DMEC
ATTACH;FMTTYPE=image/jpeg:https://www.shawhrconsulting.com/wp-content/uploads/2021/12/la.jpg
END:VEVENT
END:VCALENDAR