BEGIN:VCALENDAR
VERSION:2.0
PRODID:-//Shaw HR Consulting - ECPv6.2.0.1//NONSGML v1.0//EN
CALSCALE:GREGORIAN
METHOD:PUBLISH
X-WR-CALNAME:Shaw HR Consulting
X-ORIGINAL-URL:https://www.shawhrconsulting.com
X-WR-CALDESC:Events for Shaw HR Consulting
REFRESH-INTERVAL;VALUE=DURATION:PT1H
X-Robots-Tag:noindex
X-PUBLISHED-TTL:PT1H
BEGIN:VTIMEZONE
TZID:America/Denver
BEGIN:DAYLIGHT
TZOFFSETFROM:-0700
TZOFFSETTO:-0600
TZNAME:MDT
DTSTART:20220313T090000
END:DAYLIGHT
BEGIN:STANDARD
TZOFFSETFROM:-0600
TZOFFSETTO:-0700
TZNAME:MST
DTSTART:20221106T080000
END:STANDARD
END:VTIMEZONE
BEGIN:VEVENT
DTSTART;TZID=America/Denver:20220429T090000
DTEND;TZID=America/Denver:20220429T140000
DTSTAMP:20260422T215910
CREATED:20220104T172316Z
LAST-MODIFIED:20220525T213238Z
UID:21255-1651222800-1651240800@www.shawhrconsulting.com
SUMMARY:The Essential ADA Disability Compliance Training: Managing Reasonable Accommodations
DESCRIPTION:Today\, employers are struggling with more and more requests for workplace accommodations. How do they keep up with the growing workload associated with disability compliance matters? The answer is to ensure that your organization understands the intent and purpose of the laws\, and how to employ a consistent process. \nThis training will help you understand what employees are eligible for reasonable accommodations under Title I of the Americans with Disabilities Act (ADA)\, and how to employ the Disability Interactive Process Hallway® strategy which walks you through not only what employers need to know\, but how to manage even the most difficult employee accommodations matters. Practical and field-tested\, Rachel’s solutions are altruistic and straightforward and most importantly support employers to make reasonable accommodation decisions they can feel confident about.  Leave with an understanding of ADA law and a practical and implementable process to manage reasonable accommodations.  This means a step-by-step\, how-to process including templates\, samples and scripts to give you the confidence you need to manage a successful interactive process. \nAdditionally\, Shaw HR Consulting has created an HR gift box that each attendee will get mailed to your doorstep as part of the training. \nShaw HR Consulting has been approved by the State Bar of California to provide MCLE credits for its trainings. \nShaw HR Consulting is recognized by SHRM to offer Professional Development Credits (PDCs) for the SHRM-CPSM and SHRM-SCPSM.  Shaw HR Consulting trainings are also eligible for points for IPMA-HR Certified Professionals (IPMA-CP) and IPMA-HR Senior Certified Professionals (IPMA-SCP). \n  \nPlease note that all Shaw HR Consulting hosted trainings are VIRTUAL for 2022.
URL:https://www.shawhrconsulting.com/event/the-essential-ada-disability-compliance-training-managing-reasonable-accommodations/
ATTACH;FMTTYPE=image/jpeg:https://www.shawhrconsulting.com/wp-content/uploads/2021/12/webinar_generic-1.jpg
ORGANIZER;CN="Shaw%20HR%20Consulting":MAILTO:training@shawhrconsulting.com
END:VEVENT
END:VCALENDAR