BEGIN:VCALENDAR
VERSION:2.0
PRODID:-//Shaw HR Consulting - ECPv6.2.0.1//NONSGML v1.0//EN
CALSCALE:GREGORIAN
METHOD:PUBLISH
X-ORIGINAL-URL:https://www.shawhrconsulting.com
X-WR-CALDESC:Events for Shaw HR Consulting
REFRESH-INTERVAL;VALUE=DURATION:PT1H
X-Robots-Tag:noindex
X-PUBLISHED-TTL:PT1H
BEGIN:VTIMEZONE
TZID:America/Denver
BEGIN:DAYLIGHT
TZOFFSETFROM:-0700
TZOFFSETTO:-0600
TZNAME:MDT
DTSTART:20220313T090000
END:DAYLIGHT
BEGIN:STANDARD
TZOFFSETFROM:-0600
TZOFFSETTO:-0700
TZNAME:MST
DTSTART:20221106T080000
END:STANDARD
END:VTIMEZONE
BEGIN:VEVENT
DTSTART;TZID=America/Denver:20220801T143000
DTEND;TZID=America/Denver:20220801T153000
DTSTAMP:20260422T184000
CREATED:20220210T224325Z
LAST-MODIFIED:20220531T154551Z
UID:21409-1659364200-1659367800@www.shawhrconsulting.com
SUMMARY:2022 DMEC Annual Conference
DESCRIPTION:Time to Look Inward: Supporting out HR Teams to Better Support Your Organization \nYour Human Resources Team has literally been in “emergency mode” for more than a year now. Overtasked managing the realities of COVID-19 within your organization\, they have had a front seat in a number workplace issues from layoffs to employees with exposures to changes in policies and procedures. Moreover\, many have also been tasked with the responsibility of staying up to date on ever-changing local\, state and federal rules and regulations. All this has translated into ongoing added stress – with no real end in sight. What can you do to help the mental health of the human resources practitioners in your organization who have been engaged with the hardest work they will likely ever do? It is as simple as supporting them to heal and recover. It’s about vacations. It’s about checking in and regrouping\, and\, it’s about recognizing them.
URL:https://www.shawhrconsulting.com/event/2022-dmec-annual-conference/
LOCATION:Gaylord Rockies Resort & Convention Center\, 6700 N Gaylord Rockies Blvd\, Aurora\, CO\, 80019\, United States
ATTACH;FMTTYPE=image/jpeg:https://www.shawhrconsulting.com/wp-content/uploads/2022/02/gaylord-rockies-east.jpg
END:VEVENT
END:VCALENDAR