BEGIN:VCALENDAR
VERSION:2.0
PRODID:-//Shaw HR Consulting - ECPv6.2.0.1//NONSGML v1.0//EN
CALSCALE:GREGORIAN
METHOD:PUBLISH
X-WR-CALNAME:Shaw HR Consulting
X-ORIGINAL-URL:https://www.shawhrconsulting.com
X-WR-CALDESC:Events for Shaw HR Consulting
REFRESH-INTERVAL;VALUE=DURATION:PT1H
X-Robots-Tag:noindex
X-PUBLISHED-TTL:PT1H
BEGIN:VTIMEZONE
TZID:America/Denver
BEGIN:DAYLIGHT
TZOFFSETFROM:-0700
TZOFFSETTO:-0600
TZNAME:MDT
DTSTART:20220313T090000
END:DAYLIGHT
BEGIN:STANDARD
TZOFFSETFROM:-0600
TZOFFSETTO:-0700
TZNAME:MST
DTSTART:20221106T080000
END:STANDARD
END:VTIMEZONE
BEGIN:VEVENT
DTSTART;TZID=America/Denver:20220819T090000
DTEND;TZID=America/Denver:20220819T140000
DTSTAMP:20260422T183840
CREATED:20220104T174920Z
LAST-MODIFIED:20220828T023051Z
UID:21265-1660899600-1660917600@www.shawhrconsulting.com
SUMMARY:ADA Disability Compliance Training: “My Disability Made Me Do It” - Managing the ADA Interactive Process When Disability and Discipline Collide
DESCRIPTION:What do you do when performance issues are being addressed and an employee says\, “My disability made me do it?”  Things get tricky when performance may or may not be impacted by a perceived or actual disability. Where do you start? Legal issues surrounding both discipline and disability abound. And\, it’s important to understand how the two can be intertwined legally.  This training will help you navigate these issues and assist you toward moving toward the ultimate goal: for an employee’s performance standards to be met. Learn how to manage these especially tough cases and about specific solutions on how to proceed down the Disability Interactive Process Hallway® in these unique cases. \nAdditionally\, Shaw HR Consulting has created an HR gift box that each attendee will get mailed to your doorstep as part of the training. \nShaw HR Consulting has been approved by the State Bar of California to provide MCLE credits for its trainings. \nShaw HR Consulting is recognized by SHRM to offer Professional Development Credits (PDCs) for the SHRM-CPSM and SHRM-SCPSM.  Shaw HR Consulting trainings are also eligible for points for IPMA-HR Certified Professionals (IPMA-CP) and IPMA-HR Senior Certified Professionals (IPMA-SCP). \nPlease note that all Shaw HR Consulting hosted trainings are VIRTUAL for 2022.
URL:https://www.shawhrconsulting.com/event/my-disability-made-me-do-it-managing-the-ada-interactive-process-when-disability-and-discipline-collide/
ATTACH;FMTTYPE=image/jpeg:https://www.shawhrconsulting.com/wp-content/uploads/2021/12/webinar_generic-1.jpg
ORGANIZER;CN="Shaw%20HR%20Consulting":MAILTO:training@shawhrconsulting.com
END:VEVENT
END:VCALENDAR