BEGIN:VCALENDAR
VERSION:2.0
PRODID:-//Shaw HR Consulting - ECPv6.2.0.1//NONSGML v1.0//EN
CALSCALE:GREGORIAN
METHOD:PUBLISH
X-WR-CALNAME:Shaw HR Consulting
X-ORIGINAL-URL:https://www.shawhrconsulting.com
X-WR-CALDESC:Events for Shaw HR Consulting
REFRESH-INTERVAL;VALUE=DURATION:PT1H
X-Robots-Tag:noindex
X-PUBLISHED-TTL:PT1H
BEGIN:VTIMEZONE
TZID:America/Denver
BEGIN:DAYLIGHT
TZOFFSETFROM:-0700
TZOFFSETTO:-0600
TZNAME:MDT
DTSTART:20220313T090000
END:DAYLIGHT
BEGIN:STANDARD
TZOFFSETFROM:-0600
TZOFFSETTO:-0700
TZNAME:MST
DTSTART:20221106T080000
END:STANDARD
END:VTIMEZONE
BEGIN:VEVENT
DTSTART;TZID=America/Denver:20221104T090000
DTEND;TZID=America/Denver:20221104T140000
DTSTAMP:20260422T152440
CREATED:20220104T180517Z
LAST-MODIFIED:20221114T152938Z
UID:21275-1667552400-1667570400@www.shawhrconsulting.com
SUMMARY:ADA Disability Compliance Training: Leave Management - Battling Excessive Use and Misuse for a Better Workplace
DESCRIPTION:Leave Management is hard work. And\, when addressing excessive use\, abuse and misuse of leave that job gets even harder.  From perceived FMLA manipulation to employees attempting to leverage psychological stressors for a job change\, it becomes at times difficult to separate legitimate medical needs from personal preferences. These are issues widespread among employers nationwide.  The financial impact of excessive leave is daunting and the moral impact on your workforce perhaps even greater. \nHow do organizations manage and perhaps lessen leave?  Rachel provides proven strategies and methods which have been implemented in more than 200 agencies across the nation.  Start with understanding what your mission is\, and what the attitude of your leave management team will be. End with the tools you need to consistently apply a sound practice. \nAdditionally\, Shaw HR Consulting has created an HR gift box that each attendee will get mailed to your doorstep as part of the training. \nShaw HR Consulting has been approved by the State Bar of California to provide MCLE credits for its trainings. \nShaw HR Consulting is recognized by SHRM to offer Professional Development Credits (PDCs) for the SHRM-CPSM and SHRM-SCPSM.  Shaw HR Consulting trainings are also eligible for points for IPMA-HR Certified Professionals (IPMA-CP) and IPMA-HR Senior Certified Professionals (IPMA-SCP). \n  \nPlease note that all Shaw HR Consulting hosted trainings are VIRTUAL for 2022.
URL:https://www.shawhrconsulting.com/event/leave-management-battling-excessive-use-and-misuse-for-a-better-workplace/
ATTACH;FMTTYPE=image/jpeg:https://www.shawhrconsulting.com/wp-content/uploads/2021/12/webinar_generic-1.jpg
ORGANIZER;CN="Shaw%20HR%20Consulting":MAILTO:training@shawhrconsulting.com
END:VEVENT
END:VCALENDAR