BEGIN:VCALENDAR
VERSION:2.0
PRODID:-//Shaw HR Consulting - ECPv6.2.0.1//NONSGML v1.0//EN
CALSCALE:GREGORIAN
METHOD:PUBLISH
X-ORIGINAL-URL:https://www.shawhrconsulting.com
X-WR-CALDESC:Events for Shaw HR Consulting
REFRESH-INTERVAL;VALUE=DURATION:PT1H
X-Robots-Tag:noindex
X-PUBLISHED-TTL:PT1H
BEGIN:VTIMEZONE
TZID:America/Denver
BEGIN:DAYLIGHT
TZOFFSETFROM:-0700
TZOFFSETTO:-0600
TZNAME:MDT
DTSTART:20220313T090000
END:DAYLIGHT
BEGIN:STANDARD
TZOFFSETFROM:-0600
TZOFFSETTO:-0700
TZNAME:MST
DTSTART:20221106T080000
END:STANDARD
END:VTIMEZONE
BEGIN:VEVENT
DTSTART;TZID=America/Denver:20221107T152000
DTEND;TZID=America/Denver:20221107T160500
DTSTAMP:20260422T152452
CREATED:20221024T234246Z
LAST-MODIFIED:20221107T180925Z
UID:22243-1667834400-1667837100@www.shawhrconsulting.com
SUMMARY:2022 California Schools JPA Conference
DESCRIPTION:Topic: Fitness for Duties are Not a Weapon! The Tool You Need to Make Sound Decisions in the ADA/FEHA Interactive Process \nAs an employer\, good data is imperative in order to make reasonable accommodations decisions you can feel confident about.  You need clear medical information on work restrictions/functional limitations or leave needs and the duration of such.  What if you have been unable to obtain this vital information?  This session will focus on understanding when it is appropriate to use the tool of a Fitness for Duty Examination and how to employ it properly.  Attendees will leave with both a process and template materials you can use.
URL:https://www.shawhrconsulting.com/event/2022-california-schools-jpa-conference/
LOCATION:Disney’s Grand Californian Hotel & Spa\, 1600 Disneyland Dr.\, Anaheim\, CA\, 92802\, United States
ATTACH;FMTTYPE=image/jpeg:https://www.shawhrconsulting.com/wp-content/uploads/2022/10/disney-s-grand-californian.jpg
END:VEVENT
END:VCALENDAR