BEGIN:VCALENDAR
VERSION:2.0
PRODID:-//Shaw HR Consulting - ECPv6.2.0.1//NONSGML v1.0//EN
CALSCALE:GREGORIAN
METHOD:PUBLISH
X-ORIGINAL-URL:https://www.shawhrconsulting.com
X-WR-CALDESC:Events for Shaw HR Consulting
REFRESH-INTERVAL;VALUE=DURATION:PT1H
X-Robots-Tag:noindex
X-PUBLISHED-TTL:PT1H
BEGIN:VTIMEZONE
TZID:America/Denver
BEGIN:DAYLIGHT
TZOFFSETFROM:-0700
TZOFFSETTO:-0600
TZNAME:MDT
DTSTART:20230312T090000
END:DAYLIGHT
BEGIN:STANDARD
TZOFFSETFROM:-0600
TZOFFSETTO:-0700
TZNAME:MST
DTSTART:20231105T080000
END:STANDARD
END:VTIMEZONE
BEGIN:VEVENT
DTSTART;VALUE=DATE:20230308
DTEND;VALUE=DATE:20230311
DTSTAMP:20260422T103020
CREATED:20230111T192157Z
LAST-MODIFIED:20230126T170400Z
UID:22406-1678233600-1678492799@www.shawhrconsulting.com
SUMMARY:CalGovHR Conference & Expo
DESCRIPTION:More information to come!
URL:https://www.shawhrconsulting.com/event/calgovhr-conference-expo-2/
LOCATION:DoubleTree by Hilton Hotel Sonoma Wine Country\, 1 Doubletree Dr.\, Rohnert Park\, CA\, 94928\, United States
ATTACH;FMTTYPE=image/webp:https://www.shawhrconsulting.com/wp-content/uploads/2023/01/bcb467d1_z.webp
END:VEVENT
END:VCALENDAR