BEGIN:VCALENDAR
VERSION:2.0
PRODID:-//Shaw HR Consulting - ECPv6.2.0.1//NONSGML v1.0//EN
CALSCALE:GREGORIAN
METHOD:PUBLISH
X-WR-CALNAME:Shaw HR Consulting
X-ORIGINAL-URL:https://www.shawhrconsulting.com
X-WR-CALDESC:Events for Shaw HR Consulting
REFRESH-INTERVAL;VALUE=DURATION:PT1H
X-Robots-Tag:noindex
X-PUBLISHED-TTL:PT1H
BEGIN:VTIMEZONE
TZID:America/Denver
BEGIN:DAYLIGHT
TZOFFSETFROM:-0700
TZOFFSETTO:-0600
TZNAME:MDT
DTSTART:20230312T090000
END:DAYLIGHT
BEGIN:STANDARD
TZOFFSETFROM:-0600
TZOFFSETTO:-0700
TZNAME:MST
DTSTART:20231105T080000
END:STANDARD
END:VTIMEZONE
BEGIN:VEVENT
DTSTART;TZID=America/Denver:20231122T080000
DTEND;TZID=America/Denver:20231122T170000
DTSTAMP:20260419T234913
CREATED:20231122T152300Z
LAST-MODIFIED:20231204T173545Z
UID:23025-1700640000-1700672400@www.shawhrconsulting.com
SUMMARY:2024 DMEC Annual Conference
DESCRIPTION:Additional information coming soon!
URL:https://www.shawhrconsulting.com/event/2024-dmec-annual-conference/
LOCATION:Gaylord Opryland Resort & Convention Center\, 2800 Opryland Dr\, Nashville\, TN\, 37214\, United States
ATTACH;FMTTYPE=image/jpeg:https://www.shawhrconsulting.com/wp-content/uploads/2023/11/426583797.jpg
END:VEVENT
END:VCALENDAR