BEGIN:VCALENDAR
VERSION:2.0
PRODID:-//Shaw HR Consulting - ECPv6.2.0.1//NONSGML v1.0//EN
CALSCALE:GREGORIAN
METHOD:PUBLISH
X-ORIGINAL-URL:https://www.shawhrconsulting.com
X-WR-CALDESC:Events for Shaw HR Consulting
REFRESH-INTERVAL;VALUE=DURATION:PT1H
X-Robots-Tag:noindex
X-PUBLISHED-TTL:PT1H
BEGIN:VTIMEZONE
TZID:America/Denver
BEGIN:DAYLIGHT
TZOFFSETFROM:-0700
TZOFFSETTO:-0600
TZNAME:MDT
DTSTART:20200308T090000
END:DAYLIGHT
BEGIN:STANDARD
TZOFFSETFROM:-0600
TZOFFSETTO:-0700
TZNAME:MST
DTSTART:20201101T080000
END:STANDARD
END:VTIMEZONE
BEGIN:VEVENT
DTSTART;TZID=America/Denver:20201030T090000
DTEND;TZID=America/Denver:20201030T101500
DTSTAMP:20260422T092010
CREATED:20200915T165328Z
LAST-MODIFIED:20210622T212725Z
UID:19625-1604048400-1604052900@www.shawhrconsulting.com
SUMMARY:ACHRO/EEO 2020
DESCRIPTION:COVID-19 ADA Disability Compliance: Managing Work from Home Accommodation Requests \nWhat do you do when an employee provides a doctor’s a note stating they medically need to work from home because of COVID-19? How do employers manage employee requests to work from home at a time when you are asking all employees in their respective workgroups to return to the workplace full or part-time? \nRachel and her firm have created a COVID-19 Disability Compliance Program that gives you not only answers but a step-by-step process for you to follow in order to create a program that will work for your organization. Leave with sample scripts\, template letters\, forms and a flowchart to ensure you not only do good and compliant work\, but have a process to document it as well. \nRead More
URL:https://www.shawhrconsulting.com/event/achro-eeo-2020/
LOCATION:CA
CATEGORIES:ACHRO/EEO
ATTACH;FMTTYPE=image/png:https://www.shawhrconsulting.com/wp-content/uploads/2020/09/logo-ACHROEEO.png
END:VEVENT
END:VCALENDAR