BEGIN:VCALENDAR
VERSION:2.0
PRODID:-//Shaw HR Consulting - ECPv6.2.0.1//NONSGML v1.0//EN
CALSCALE:GREGORIAN
METHOD:PUBLISH
X-WR-CALNAME:Shaw HR Consulting
X-ORIGINAL-URL:https://www.shawhrconsulting.com
X-WR-CALDESC:Events for Shaw HR Consulting
REFRESH-INTERVAL;VALUE=DURATION:PT1H
X-Robots-Tag:noindex
X-PUBLISHED-TTL:PT1H
BEGIN:VTIMEZONE
TZID:America/Los_Angeles
BEGIN:DAYLIGHT
TZOFFSETFROM:-0800
TZOFFSETTO:-0700
TZNAME:PDT
DTSTART:20180311T100000
END:DAYLIGHT
BEGIN:STANDARD
TZOFFSETFROM:-0700
TZOFFSETTO:-0800
TZNAME:PST
DTSTART:20181104T090000
END:STANDARD
END:VTIMEZONE
BEGIN:VEVENT
DTSTART;VALUE=DATE:20180205
DTEND;VALUE=DATE:20180206
DTSTAMP:20260425T070429
CREATED:20171215T151335Z
LAST-MODIFIED:20191112T162631Z
UID:6574-1517788800-1517875199@www.shawhrconsulting.com
SUMMARY:OHPELRA 34th Annual Training Conference - Feb. 4-6
DESCRIPTION:Exorcising the Phantom of the Workplace – How to Build a Successful Disability Management Culture to Reduce Leave\nFeb 5\, 2018  || 9:30-10:30 a.m. at the OHPERLA 34th Annual Training Conference\n  \nMental Health in the Workplace: The Invisible Disability with the Visible Impacts on Productivity and Workplace Health\nFeb 5\, 2018  || 3:30-4:30 p.m. at the OHPERLA 34th Annual Training Conference\nClick here to register for this event!
URL:https://www.shawhrconsulting.com/event/ohpelra-34th-annual-training-conference/
LOCATION:Nationwide Hotel & Conference Center\, 100 Green Meadows Drive\, South Lewis Center\, OH\, 43035\, United States
CATEGORIES:OPELRA
ATTACH;FMTTYPE=image/jpeg:https://www.shawhrconsulting.com/wp-content/uploads/2017/12/columbus-ohio-drone-photo-e1486890763879-1920x1000.jpg
END:VEVENT
END:VCALENDAR