BEGIN:VCALENDAR
VERSION:2.0
PRODID:-//Shaw HR Consulting - ECPv6.2.0.1//NONSGML v1.0//EN
CALSCALE:GREGORIAN
METHOD:PUBLISH
X-WR-CALNAME:Shaw HR Consulting
X-ORIGINAL-URL:https://www.shawhrconsulting.com
X-WR-CALDESC:Events for Shaw HR Consulting
REFRESH-INTERVAL;VALUE=DURATION:PT1H
X-Robots-Tag:noindex
X-PUBLISHED-TTL:PT1H
BEGIN:VTIMEZONE
TZID:America/Denver
BEGIN:DAYLIGHT
TZOFFSETFROM:-0700
TZOFFSETTO:-0600
TZNAME:MDT
DTSTART:20090308T090000
END:DAYLIGHT
BEGIN:STANDARD
TZOFFSETFROM:-0600
TZOFFSETTO:-0700
TZNAME:MST
DTSTART:20091101T080000
END:STANDARD
END:VTIMEZONE
BEGIN:VEVENT
DTSTART;TZID=America/Denver:20091016T080000
DTEND;TZID=America/Denver:20091016T170000
DTSTAMP:20260420T020204
CREATED:20191016T202725Z
LAST-MODIFIED:20191016T202725Z
UID:15057-1255680000-1255712400@www.shawhrconsulting.com
SUMMARY:On-Demand Webinar: FFD
DESCRIPTION:
URL:https://www.shawhrconsulting.com/event/on-demand-webinar-ffd/
LOCATION:CA
END:VEVENT
BEGIN:VEVENT
DTSTART;TZID=America/Denver:20091016T080000
DTEND;TZID=America/Denver:20091016T170000
DTSTAMP:20260420T020204
CREATED:20191016T202531Z
LAST-MODIFIED:20191016T202935Z
UID:15055-1255680000-1255712400@www.shawhrconsulting.com
SUMMARY:On-Demand Webinar: Discipline and Disability
DESCRIPTION:
URL:https://www.shawhrconsulting.com/event/on-demand-webinar-discipline-and-disability/
LOCATION:CA
END:VEVENT
BEGIN:VEVENT
DTSTART;TZID=America/Denver:20091001T080000
DTEND;TZID=America/Denver:20091001T170000
DTSTAMP:20260420T020204
CREATED:20191009T175453Z
LAST-MODIFIED:20240129T174209Z
UID:14674-1254384000-1254416400@www.shawhrconsulting.com
SUMMARY:On-Demand Webinar: The Disability Interactive Process & Making Reasonable Accommodation Decisions
DESCRIPTION:
URL:https://www.shawhrconsulting.com/event/on-demand-webinar-the-disability-interactive-process-making-reasonable-accommodation-decisions/
LOCATION:CA
END:VEVENT
END:VCALENDAR