BEGIN:VCALENDAR
VERSION:2.0
PRODID:-//Shaw HR Consulting - ECPv6.2.0.1//NONSGML v1.0//EN
CALSCALE:GREGORIAN
METHOD:PUBLISH
X-ORIGINAL-URL:https://www.shawhrconsulting.com
X-WR-CALDESC:Events for Shaw HR Consulting
REFRESH-INTERVAL;VALUE=DURATION:PT1H
X-Robots-Tag:noindex
X-PUBLISHED-TTL:PT1H
BEGIN:VTIMEZONE
TZID:America/Denver
BEGIN:DAYLIGHT
TZOFFSETFROM:-0700
TZOFFSETTO:-0600
TZNAME:MDT
DTSTART:20210314T090000
END:DAYLIGHT
BEGIN:STANDARD
TZOFFSETFROM:-0600
TZOFFSETTO:-0700
TZNAME:MST
DTSTART:20211107T080000
END:STANDARD
END:VTIMEZONE
BEGIN:VEVENT
DTSTART;TZID=America/Denver:20211020T103000
DTEND;TZID=America/Denver:20211020T114500
DTSTAMP:20260422T220859
CREATED:20210907T153453Z
LAST-MODIFIED:20211025T164244Z
UID:20719-1634725800-1634730300@www.shawhrconsulting.com
SUMMARY:ACHRO/EEO 2021 Virtual Conference
DESCRIPTION:Managing COVID-Related Accommodation Requests in a “Post-Vaccine America” \n  \nReasonable accommodation requests related to COVID-19 remain prevalent.  Requests range from “I need to work from home because of a personal medical condition\,” to specific work restrictions such as “cannot wear a face mask\,” or “cannot work near people.”  How do you manage reasonable accommodation requests related to COVID-19?  Rachel and her firm have created a COVID-19 Disability Compliance Program that gives you not only answers but a step-by-step process for you to follow in order to create a program that will work for your organization.  Leave with sample scripts\, template letters\, questionnaires\, forms and a flowchart to ensure you not only do good and compliant work\, but have a process to document it as well.
URL:https://www.shawhrconsulting.com/event/achro-eeo-2021-virtual-conference/
END:VEVENT
END:VCALENDAR