BEGIN:VCALENDAR
VERSION:2.0
PRODID:-//Shaw HR Consulting - ECPv6.2.0.1//NONSGML v1.0//EN
CALSCALE:GREGORIAN
METHOD:PUBLISH
X-ORIGINAL-URL:https://www.shawhrconsulting.com
X-WR-CALDESC:Events for Shaw HR Consulting
REFRESH-INTERVAL;VALUE=DURATION:PT1H
X-Robots-Tag:noindex
X-PUBLISHED-TTL:PT1H
BEGIN:VTIMEZONE
TZID:America/Denver
BEGIN:DAYLIGHT
TZOFFSETFROM:-0700
TZOFFSETTO:-0600
TZNAME:MDT
DTSTART:20230312T090000
END:DAYLIGHT
BEGIN:STANDARD
TZOFFSETFROM:-0600
TZOFFSETTO:-0700
TZNAME:MST
DTSTART:20231105T080000
END:STANDARD
END:VTIMEZONE
BEGIN:VEVENT
DTSTART;VALUE=DATE:20231003
DTEND;VALUE=DATE:20231005
DTSTAMP:20260419T223457
CREATED:20221114T210554Z
LAST-MODIFIED:20231003T220635Z
UID:22321-1696291200-1696463999@www.shawhrconsulting.com
SUMMARY:Shaw HR Consulting ADA Compliance Boot Camp 2023
DESCRIPTION:SOLD OUT – please click here to purchase tickets for our Shaw HR Consulting 2024 Boot Camp \n 
URL:https://www.shawhrconsulting.com/event/shaw-hr-consulting-ada-compliance-boot-camp-2023/
LOCATION:Westlake Village Inn\, 31943 Agoura Rd.\, Westlake Village\, CA\, 91361\, United States
ATTACH;FMTTYPE=image/jpeg:https://www.shawhrconsulting.com/wp-content/uploads/2022/11/westlake_village_inn_exterior.jpg
ORGANIZER;CN="Shaw%20HR%20Consulting":MAILTO:training@shawhrconsulting.com
END:VEVENT
BEGIN:VEVENT
DTSTART;VALUE=DATE:20231018
DTEND;VALUE=DATE:20231021
DTSTAMP:20260419T223457
CREATED:20230427T232651Z
LAST-MODIFIED:20230927T224155Z
UID:22625-1697587200-1697846399@www.shawhrconsulting.com
SUMMARY:ACHRO/EEO 2023 Fall Training Institute
DESCRIPTION:More information coming soon!
URL:https://www.shawhrconsulting.com/event/achro-eeo-2023-fall-training-institute/
LOCATION:Hyatt Regency Mission Bay\, 1441 Quivira Rd\, San Diego\, CA\, 92109\, United States
CATEGORIES:ACHRO/EEO
ATTACH;FMTTYPE=image/webp:https://www.shawhrconsulting.com/wp-content/uploads/2023/04/75085424_XL.webp
END:VEVENT
END:VCALENDAR